BEGIN:VCALENDAR
VERSION:2.0
PRODID:-//http://strictlysinglessports.com//NONSGML kigkonsult.se iCalcreator 2.41.71//
CALSCALE:GREGORIAN
METHOD:PUBLISH
UID:30633564-3366-4339-b631-326239613231
X-WR-CALNAME:JCal Pro Calendar
X-WR-CALDESC:Your online events calendar
X-WR-TIMEZONE:America/Halifax
BEGIN:VTIMEZONE
TZID:America/Halifax
TZUNTIL:20271107T050000Z
BEGIN:STANDARD
TZNAME:AST
DTSTART:20251102T020000
TZOFFSETFROM:-0300
TZOFFSETTO:-0400
RDATE:20261101T020000
END:STANDARD
BEGIN:DAYLIGHT
TZNAME:ADT
DTSTART:20260308T020000
TZOFFSETFROM:-0400
TZOFFSETTO:-0300
RDATE:20270314T020000
END:DAYLIGHT
END:VTIMEZONE
BEGIN:VEVENT
UID:20260423T100000UTC-1727vWwRig@http://www.strictlysinglessports.com/
DTSTAMP:20260422T104913Z
CATEGORIES:Miscellaneous
DTSTART;TZID=America/Halifax:20260422T000000
DTEND;TZID=America/Halifax:20260422T235959
SUMMARY:Topps Disney 2026 Neon Value Box
URL:http://strictlysinglessports.com/calendar/20-card-fight-vanguard/28227-
 topps-disney-2026-neon-value-box
END:VEVENT
END:VCALENDAR
