BEGIN:VCALENDAR
VERSION:2.0
PRODID:-//http://strictlysinglessports.com//NONSGML kigkonsult.se iCalcreator 2.41.71//
CALSCALE:GREGORIAN
METHOD:PUBLISH
UID:33666131-3466-4131-b731-386234396234
X-WR-CALNAME:JCal Pro Calendar
X-WR-CALDESC:Your online events calendar
X-WR-TIMEZONE:America/Halifax
BEGIN:VTIMEZONE
TZID:America/Halifax
TZUNTIL:20271107T050000Z
BEGIN:STANDARD
TZNAME:AST
DTSTART:20251102T020000
TZOFFSETFROM:-0300
TZOFFSETTO:-0400
RDATE:20261101T020000
END:STANDARD
BEGIN:DAYLIGHT
TZNAME:ADT
DTSTART:20260308T020000
TZOFFSETFROM:-0400
TZOFFSETTO:-0300
RDATE:20270314T020000
END:DAYLIGHT
END:VTIMEZONE
BEGIN:VEVENT
UID:20260424T100000UTC-9626vx1x1I@http://www.strictlysinglessports.com/
DTSTAMP:20260420T090828Z
CATEGORIES:UNION ARENA
DESCRIPTION:<div class='title col' _ngcontent-hqd-c1=''>\n<div class='item-
 title align-items-center' _ngcontent-hqd-c1=''>\n<div class='first-line d-
 flex flex-column flex-md-row justify-content-start' _ngcontent-hqd-c1=''>
 \n<h4 _ngcontent-hqd-c1=''>UNION ARENA TOKYO GHOUL BOOSTER (12/16/16)</h4>
 \n<div class='new-sign' _ngcontent-hqd-c1=''></div>\n</div>\n<p class='pro
 duct-label text-danger' _ngcontent-hqd-c1=''>Release Date: &nbsp\;2026-04-
 24</p>\n<div class='d-flex second-line' _ngcontent-hqd-c1=''>\n<div class=
 'preorder-family' _ngcontent-hqd-c1=''></div>\n</div>\n</div>\n<div class=
 'item-info d-inline-flex' _ngcontent-hqd-c1=''>\n<div class='item-code fon
 t-weight-bold' _ngcontent-hqd-c1=''>\n<h5 _ngcontent-hqd-c1=''><span class
 ='font-weight-bold' _ngcontent-hqd-c1=''></span></h5>\n</div>\n</div>\n</d
 iv>\n<div class='infos d-flex flex-column flex-sm-row' _ngcontent-hqd-c1='
 '>\n<div class='items item-price text-center' _ngcontent-hqd-c1=''>\n<div 
 class='price d-flex flex-column justify-content-center' _ngcontent-hqd-c1=
 ''></div>\n<div class='to-favorite' _ngcontent-hqd-c1=''></div>\n</div>\n<
 div class='items item-quantity text-center d-flex flex-column justify-cont
 ent-between' _ngcontent-hqd-c1=''>\n<div class='quantity d-flex flex-colum
 n justify-content-center' _ngcontent-hqd-c1=''>\n<div _ngcontent-hqd-c1=''
 ></div>\n</div>\n<div class='to-cart' _ngcontent-hqd-c1=''></div>\n</div>
 \n</div>\n<div _ngcontent-hqd-c1=''><strong>Configuration:</strong></div>
 \n<div id='desc' class='item-description' _ngcontent-hqd-c1=''>\n<div _ngc
 ontent-hqd-c1=''>\n<p>12 Cards per Pack</p>\n<p>16 Packs per Display</p>\n
 <p>16 Displays per Case</p>\n<p>Common: 35</p>\n<p>Uncommon: 35</p>\n<p>Ra
 re: 18</p>\n<p>Super Rare: 12</p>\n<p>Action point: 12</p>\n<p>100card ＋6 
 AP card types</p>\n<p>*This product also includes Alt-Art versions of the 
 above card types.</p>\n</div>\n</div>
DTSTART;TZID=America/Halifax:20260417T000000
DTEND;TZID=America/Halifax:20260417T235959
SUMMARY:UNION ARENA TOKYO GHOUL
URL:http://strictlysinglessports.com/calendar/26-shadowverse/28146-union-ar
 ena-tokyo-ghoul-booster
X-ALT-DESC;FMTTYPE=TEXT/HTML:<div class='title col' _ngcontent-hqd-c1=''>\n
 <div class='item-title align-items-center' _ngcontent-hqd-c1=''>\n<div cla
 ss='first-line d-flex flex-column flex-md-row justify-content-start' _ngco
 ntent-hqd-c1=''>\n<h4 _ngcontent-hqd-c1=''>UNION ARENA TOKYO GHOUL BOOSTER
  (12/16/16)</h4>\n<div class='new-sign' _ngcontent-hqd-c1=''></div>\n</div
 >\n<p class='product-label text-danger' _ngcontent-hqd-c1=''>Release Date:
  &nbsp\;2026-04-24</p>\n<div class='d-flex second-line' _ngcontent-hqd-c1=
 ''>\n<div class='preorder-family' _ngcontent-hqd-c1=''></div>\n</div>\n</d
 iv>\n<div class='item-info d-inline-flex' _ngcontent-hqd-c1=''>\n<div clas
 s='item-code font-weight-bold' _ngcontent-hqd-c1=''>\n<h5 _ngcontent-hqd-c
 1=''><span class='font-weight-bold' _ngcontent-hqd-c1=''></span></h5>\n</d
 iv>\n</div>\n</div>\n<div class='infos d-flex flex-column flex-sm-row' _ng
 content-hqd-c1=''>\n<div class='items item-price text-center' _ngcontent-h
 qd-c1=''>\n<div class='price d-flex flex-column justify-content-center' _n
 gcontent-hqd-c1=''></div>\n<div class='to-favorite' _ngcontent-hqd-c1=''><
 /div>\n</div>\n<div class='items item-quantity text-center d-flex flex-col
 umn justify-content-between' _ngcontent-hqd-c1=''>\n<div class='quantity d
 -flex flex-column justify-content-center' _ngcontent-hqd-c1=''>\n<div _ngc
 ontent-hqd-c1=''></div>\n</div>\n<div class='to-cart' _ngcontent-hqd-c1=''
 ></div>\n</div>\n</div>\n<div _ngcontent-hqd-c1=''><strong>Configuration:<
 /strong></div>\n<div id='desc' class='item-description' _ngcontent-hqd-c1=
 ''>\n<div _ngcontent-hqd-c1=''>\n<p>12 Cards per Pack</p>\n<p>16 Packs per
  Display</p>\n<p>16 Displays per Case</p>\n<p>Common: 35</p>\n<p>Uncommon:
  35</p>\n<p>Rare: 18</p>\n<p>Super Rare: 12</p>\n<p>Action point: 12</p>\n
 <p>100card ＋6 AP card types</p>\n<p>*This product also includes Alt-Art ve
 rsions of the above card types.</p>\n</div>\n</div>
END:VEVENT
END:VCALENDAR
