BEGIN:VCALENDAR
VERSION:2.0
PRODID:-//http://strictlysinglessports.com//NONSGML kigkonsult.se iCalcreator 2.41.71//
CALSCALE:GREGORIAN
METHOD:PUBLISH
UID:37393961-3966-4937-a138-333266393239
X-WR-CALNAME:JCal Pro Calendar
X-WR-CALDESC:Your online events calendar
X-WR-TIMEZONE:America/Halifax
BEGIN:VTIMEZONE
TZID:America/Halifax
TZUNTIL:20271107T050000Z
BEGIN:STANDARD
TZNAME:AST
DTSTART:20251102T020000
TZOFFSETFROM:-0300
TZOFFSETTO:-0400
RDATE:20261101T020000
END:STANDARD
BEGIN:DAYLIGHT
TZNAME:ADT
DTSTART:20260308T020000
TZOFFSETFROM:-0400
TZOFFSETTO:-0300
RDATE:20270314T020000
END:DAYLIGHT
END:VTIMEZONE
BEGIN:VEVENT
UID:20250801T180000UTC-2333dwi12i@http://www.strictlysinglessports.com/
DTSTAMP:20260425T111747Z
CATEGORIES:Gundam
DTSTART;TZID=America/Halifax:20260501T180000
DTEND;TZID=America/Halifax:20260501T210000
RRULE:FREQ=WEEKLY;UNTIL=20260605T030000Z;INTERVAL=1;BYDAY=FR
SUMMARY:Gundam Tournament
URL:http://strictlysinglessports.com/calendar/29-misc/24024-gundam-tourname
 nt
END:VEVENT
END:VCALENDAR
